BEGIN:VCALENDAR
VERSION:2.0
PRODID:-//International Organisation for Biological Control (IOBC) Afrotropical Regional Section - ECPv5.9.0//NONSGML v1.0//EN
CALSCALE:GREGORIAN
METHOD:PUBLISH
X-WR-CALNAME:International Organisation for Biological Control (IOBC) Afrotropical Regional Section
X-ORIGINAL-URL:https://iobc-atrs.org
X-WR-CALDESC:Events for International Organisation for Biological Control (IOBC) Afrotropical Regional Section
BEGIN:VTIMEZONE
TZID:UTC
BEGIN:STANDARD
TZOFFSETFROM:+0000
TZOFFSETTO:+0000
TZNAME:UTC
DTSTART:20230101T000000
END:STANDARD
END:VTIMEZONE
BEGIN:VEVENT
DTSTART;VALUE=DATE:20230507
DTEND;VALUE=DATE:20230513
DTSTAMP:20260423T193648
CREATED:20220712T083845Z
LAST-MODIFIED:20220712T084331Z
UID:1084-1683417600-1683935999@iobc-atrs.org
SUMMARY:XVI International Symposium on Biological Control of Weeds
DESCRIPTION:New date: 7th – 12th of May\, 2023\n\n\nPuerto Iguazú\, Misiones\, Argentina.\n\nHome
URL:https://iobc-atrs.org/event/1084/
END:VEVENT
END:VCALENDAR